BEGIN:VCALENDAR
VERSION:2.0
PRODID:-//Poole Runners - ECPv6.15.20//NONSGML v1.0//EN
CALSCALE:GREGORIAN
METHOD:PUBLISH
X-WR-CALNAME:Poole Runners
X-ORIGINAL-URL:https://poolerunners.co.uk
X-WR-CALDESC:Events for Poole Runners
REFRESH-INTERVAL;VALUE=DURATION:PT1H
X-Robots-Tag:noindex
X-PUBLISHED-TTL:PT1H
BEGIN:VTIMEZONE
TZID:UTC
BEGIN:STANDARD
TZOFFSETFROM:+0000
TZOFFSETTO:+0000
TZNAME:UTC
DTSTART:20150101T000000
END:STANDARD
END:VTIMEZONE
BEGIN:VEVENT
DTSTART;VALUE=DATE:20160820
DTEND;VALUE=DATE:20160821
DTSTAMP:20260421T181248
CREATED:20160729T142117Z
LAST-MODIFIED:20160729T161535Z
UID:3520-1471651200-1471737599@poolerunners.co.uk
SUMMARY:Track & Field - Division 3 South West
DESCRIPTION:he Sweatshop Southern Athletics League is the area track and field league for clubs in the SEAA region who wish to compete in joint (male & female) teams.
URL:https://poolerunners.co.uk/event/track-field-division-3-south-west/
LOCATION:Thames Valley Athletics Centre\, Eton\, SL4 6HN\, United Kingdom
CATEGORIES:Track and Field
ATTACH;FMTTYPE=image/jpeg:https://poolerunners.co.uk/wp-content/uploads/2016/06/Event-Image.jpg
END:VEVENT
BEGIN:VEVENT
DTSTART;TZID=UTC:20160810T181500
DTEND;TZID=UTC:20160810T200000
DTSTAMP:20260421T181248
CREATED:20160616T110032Z
LAST-MODIFIED:20160616T110032Z
UID:2807-1470852900-1470859200@poolerunners.co.uk
SUMMARY:Summer Series - Event 6
DESCRIPTION:Entry is now “on-night only”   Please arrive at least 30 min before your race start \nThe Poole Runners Summer Series of time trials has been held for the past thirty years. \nJunior race starts at 18:45\, (1 mile Approx.) £1.00 under 14 \nSeniors Starts at 19:15 seniors (3.5 Miles Approx.)  £2 all races for EA registered runners     £4 for Non EA runners’ first race then £2.00 for the remainder of the races. \nRegistration will be in the main car park\, open from 6:00pm \nParking is currently free\, ( there is a possibility that BoP may introduce  charges this summer ) \nView Summer Series page for more info.
URL:https://poolerunners.co.uk/event/summer-series-event-6/
LOCATION:Upton Country Park\, Upton\, Poole\, BH17 7BJ
CATEGORIES:Summer Series
ATTACH;FMTTYPE=image/jpeg:https://poolerunners.co.uk/wp-content/uploads/2016/06/Upton-Summer-Series.jpg
END:VEVENT
BEGIN:VEVENT
DTSTART;TZID=UTC:20160727T181500
DTEND;TZID=UTC:20160727T200000
DTSTAMP:20260421T181248
CREATED:20160616T105531Z
LAST-MODIFIED:20160616T105531Z
UID:2804-1469643300-1469649600@poolerunners.co.uk
SUMMARY:Summer Series - Event 5
DESCRIPTION:Entry is now “on-night only”   Please arrive at least 30 min before your race start \nThe Poole Runners Summer Series of time trials has been held for the past thirty years. \nJunior race starts at 18:45\, (1 mile Approx.) £1.00 under 14 \nSeniors Starts at 19:15 seniors (3.5 Miles Approx.)  £2 all races for EA registered runners     £4 for Non EA runners’ first race then £2.00 for the remainder of the races. \nRegistration will be in the main car park\, open from 6:00pm \nParking is currently free\, ( there is a possibility that BoP may introduce  charges this summer ) \nView Summer Series page for more info.
URL:https://poolerunners.co.uk/event/summer-series-event-5/
LOCATION:Upton Country Park\, Upton\, Poole\, BH17 7BJ
CATEGORIES:Summer Series
ATTACH;FMTTYPE=image/jpeg:https://poolerunners.co.uk/wp-content/uploads/2016/06/Upton-Summer-Series.jpg
END:VEVENT
BEGIN:VEVENT
DTSTART;TZID=UTC:20160716T093000
DTEND;TZID=UTC:20160716T093000
DTSTAMP:20260421T181248
CREATED:20160615T123948Z
LAST-MODIFIED:20160616T100326Z
UID:2740-1468661400-1468661400@poolerunners.co.uk
SUMMARY:Schindlers Shuffle
DESCRIPTION:Schindlers Shuffles are gentle walks (not runs)\, organised by club legend Geoff Scott (70)\, usually of about 6 miles starting and finishing at a pub where most people stop for a drink or food afterwards. All are welcome (including dogs)\, you don’t have to be a Poole Runner or indeed a runner. Suitable footwear and clothing for the prevailing conditions are recommended as is a drink and cake for the mid-walk break. \nWalk 181\nDirections \nTake the A351 Wareham to Swanage Road.  The pub is on the right hand side about 1 mile before Corfe Castle. \nThe walk will take us into the Purbecks and the area surrounding Corfe Castle.  This is a wonderful area for walking with spectacular views on a clear day. The walk may be muddy in parts
URL:https://poolerunners.co.uk/event/schindlers-shuffle/
LOCATION:The Halfway Inn\, Norden\, Wareham\, BH20 5DU
CATEGORIES:Social
ATTACH;FMTTYPE=image/jpeg:https://poolerunners.co.uk/wp-content/uploads/2016/06/Schindlers-shuffle.jpg
ORGANIZER;CN="Geoff Scott":MAILTO:geoffwscott@hotmail.co.uk
END:VEVENT
BEGIN:VEVENT
DTSTART;TZID=UTC:20160713T181500
DTEND;TZID=UTC:20160713T200000
DTSTAMP:20260421T181248
CREATED:20160616T102452Z
LAST-MODIFIED:20160616T105215Z
UID:2800-1468433700-1468440000@poolerunners.co.uk
SUMMARY:Summer Series - Event 4
DESCRIPTION:Entry is now “on-night only”   Please arrive at least 30 min before your race start \nThe Poole Runners Summer Series of time trials has been held for the past thirty years. \nJunior race starts at 18:45\, (1 mile Approx.) £1.00 under 14 \nSeniors Starts at 19:15 seniors (3.5 Miles Approx.)  £2 all races for EA registered runners     £4 for Non EA runners’ first race then £2.00 for the remainder of the races. \nRegistration will be in the main car park\, open from 6:00pm \nParking is currently free\, ( there is a possibility that BoP may introduce  charges this summer ) \nView Summer Series page for more info.
URL:https://poolerunners.co.uk/event/summer-series-event-4/
LOCATION:Upton Country Park\, Upton\, Poole\, BH17 7BJ
CATEGORIES:Summer Series
ATTACH;FMTTYPE=image/jpeg:https://poolerunners.co.uk/wp-content/uploads/2016/06/Upton-Summer-Series.jpg
END:VEVENT
END:VCALENDAR