BEGIN:VCALENDAR
VERSION:2.0
PRODID:-//Poole Runners - ECPv6.15.20//NONSGML v1.0//EN
CALSCALE:GREGORIAN
METHOD:PUBLISH
X-ORIGINAL-URL:https://poolerunners.co.uk
X-WR-CALDESC:Events for Poole Runners
REFRESH-INTERVAL;VALUE=DURATION:PT1H
X-Robots-Tag:noindex
X-PUBLISHED-TTL:PT1H
BEGIN:VTIMEZONE
TZID:Europe/London
BEGIN:DAYLIGHT
TZOFFSETFROM:+0000
TZOFFSETTO:+0100
TZNAME:BST
DTSTART:20210328T010000
END:DAYLIGHT
BEGIN:STANDARD
TZOFFSETFROM:+0100
TZOFFSETTO:+0000
TZNAME:GMT
DTSTART:20211031T010000
END:STANDARD
BEGIN:DAYLIGHT
TZOFFSETFROM:+0000
TZOFFSETTO:+0100
TZNAME:BST
DTSTART:20220327T010000
END:DAYLIGHT
BEGIN:STANDARD
TZOFFSETFROM:+0100
TZOFFSETTO:+0000
TZNAME:GMT
DTSTART:20221030T010000
END:STANDARD
BEGIN:DAYLIGHT
TZOFFSETFROM:+0000
TZOFFSETTO:+0100
TZNAME:BST
DTSTART:20230326T010000
END:DAYLIGHT
BEGIN:STANDARD
TZOFFSETFROM:+0100
TZOFFSETTO:+0000
TZNAME:GMT
DTSTART:20231029T010000
END:STANDARD
END:VTIMEZONE
BEGIN:VEVENT
DTSTART;TZID=Europe/London:20220403T080000
DTEND;TZID=Europe/London:20220403T170000
DTSTAMP:20260424T033757
CREATED:20211031T093847Z
LAST-MODIFIED:20211203T113009Z
UID:19660-1648972800-1649005200@poolerunners.co.uk
SUMMARY:Marnhull 12k
DESCRIPTION:Race Four of the Dorset Road Race League  \nAlso a 2022 Club Championship (Road) Event \nThe M12k follows beautiful small lanes around a number of North Dorset villages. It is mildly undulating but with a couple of water stops on route there is time to take a breather. There is dedicated parking\, a post run snack for all runners and a great village pub for your cheeky Sunday pint. \nTo find out more about the event visit this website.  TBA
URL:https://poolerunners.co.uk/event/marnhull-12k/
LOCATION:St Gregory’s School\, Sturminster Newton\, Dorset\, DT10 1PZ
CATEGORIES:Club Championship,Dorset Road Race League
ATTACH;FMTTYPE=image/png:https://poolerunners.co.uk/wp-content/uploads/2021/04/favicon-apple-iPhone-Poole-Runners.png
END:VEVENT
END:VCALENDAR