BEGIN:VCALENDAR
VERSION:2.0
PRODID:-//Poole Runners - ECPv6.15.20//NONSGML v1.0//EN
CALSCALE:GREGORIAN
METHOD:PUBLISH
X-ORIGINAL-URL:https://poolerunners.co.uk
X-WR-CALDESC:Events for Poole Runners
REFRESH-INTERVAL;VALUE=DURATION:PT1H
X-Robots-Tag:noindex
X-PUBLISHED-TTL:PT1H
BEGIN:VTIMEZONE
TZID:Europe/London
BEGIN:DAYLIGHT
TZOFFSETFROM:+0000
TZOFFSETTO:+0100
TZNAME:BST
DTSTART:20210328T010000
END:DAYLIGHT
BEGIN:STANDARD
TZOFFSETFROM:+0100
TZOFFSETTO:+0000
TZNAME:GMT
DTSTART:20211031T010000
END:STANDARD
BEGIN:DAYLIGHT
TZOFFSETFROM:+0000
TZOFFSETTO:+0100
TZNAME:BST
DTSTART:20220327T010000
END:DAYLIGHT
BEGIN:STANDARD
TZOFFSETFROM:+0100
TZOFFSETTO:+0000
TZNAME:GMT
DTSTART:20221030T010000
END:STANDARD
BEGIN:DAYLIGHT
TZOFFSETFROM:+0000
TZOFFSETTO:+0100
TZNAME:BST
DTSTART:20230326T010000
END:DAYLIGHT
BEGIN:STANDARD
TZOFFSETFROM:+0100
TZOFFSETTO:+0000
TZNAME:GMT
DTSTART:20231029T010000
END:STANDARD
END:VTIMEZONE
BEGIN:VEVENT
DTSTART;TZID=Europe/London:20220213T080000
DTEND;TZID=Europe/London:20220213T170000
DTSTAMP:20260424T071412
CREATED:20211031T083956Z
LAST-MODIFIED:20211203T184815Z
UID:19656-1644739200-1644771600@poolerunners.co.uk
SUMMARY:Lytchett 10
DESCRIPTION:Race Three of the 2022 Dorset Road Race League and a 2022 Poole Runners (Road) Club Championship Race \nThe Lytchett 10 is a ten mile road race starting at Lytchett Minster Sports Centre\, Post Green Rd\, Lytchett Minster. The course is hilly and entirely on road and pavements. \nTo find out more about the event visit this website.
URL:https://poolerunners.co.uk/event/lytchett-10-3/
LOCATION:Lytchett Minster Sports Centre\, Lytchett Minster\, Poole\, BH16 6JD\, United Kingdom
CATEGORIES:Club Championship,Dorset Road Race League
ATTACH;FMTTYPE=image/png:https://poolerunners.co.uk/wp-content/uploads/2021/04/favicon-apple-iPhone-Poole-Runners.png
END:VEVENT
END:VCALENDAR